BEGIN:VCALENDAR
VERSION:2.0
PRODID:-//Domaine de Mournac - ECPv4.6.23//NONSGML v1.0//EN
CALSCALE:GREGORIAN
METHOD:PUBLISH
X-WR-CALNAME:Domaine de Mournac
X-ORIGINAL-URL:https://www.domainedemournac.com
X-WR-CALDESC:Events for Domaine de Mournac
BEGIN:VEVENT
DTSTART;VALUE=DATE:20220507
DTEND;VALUE=DATE:20220515
DTSTAMP:20260419T191811
CREATED:20211019T122611Z
LAST-MODIFIED:20211019T122611Z
UID:3098-1651881600-1652572799@www.domainedemournac.com
SUMMARY:Ariana Brackenbury
DESCRIPTION:Mary Magdalene Pilgrimage \n
URL:https://www.domainedemournac.com/calendar/ariana-brackenbury/
LOCATION:Domaine De Mournac\, Mournac\, Antugnac\, 11190\, France
ORGANIZER;CN="Ariana%20Brackenbury":MAILTO:pilgrimage@arianabrackenbury.com
END:VEVENT
END:VCALENDAR