BEGIN:VCALENDAR
VERSION:2.0
PRODID:-//Domaine de Mournac - ECPv4.6.23//NONSGML v1.0//EN
CALSCALE:GREGORIAN
METHOD:PUBLISH
X-WR-CALNAME:Domaine de Mournac
X-ORIGINAL-URL:https://www.domainedemournac.com
X-WR-CALDESC:Events for Domaine de Mournac
BEGIN:VEVENT
DTSTART;VALUE=DATE:20190601
DTEND;VALUE=DATE:20190609
DTSTAMP:20260419T191627
CREATED:20181114T145109Z
LAST-MODIFIED:20181114T145204Z
UID:2669-1559347200-1560038399@www.domainedemournac.com
SUMMARY:Be Ten Again! A Yoga Retreat with Krista S. Moore & Cyndi Bulka
DESCRIPTION:Be 10 Again! Is a once in a lifetime themed Yoga retreat\, based on Krista S. Moore’s book and program Your 10 Year Old Self: The Powerful Process of Going Backwards to Move Forward in Your Life.   \n  \nThis week-long adventure will be co-facilitated by Life and Wellness Coach and Yoga Retreat Specialist\, Cyndi Bulka\, along with Author\, Speaker and Business Coach\, Krista S. Moore.  There is no better place in the world than this tranquil French countryside destination\, to experience this relaxed\, peaceful and heart-stirring experience.  \n  \nWhat were you doing when you were 10? Your answer to this question has the potential to transform your life! Ten is a significant age\, because prior to 10 we have parental influence; after ten we are affected by peer and social pressure\, then hormones set in. At 10 years old\, we have unlimited potential\, not a worry in the world\, and we are our most authentic self.   \n  \nWhat to expect at the Be 10 Again! Yoga Retreat:  \n  \n\nPlayfully engage your 10-year-old self through games\, reflections\, journaling\, and creative activities\nDiscover who you are at your core and what might be missing in your life\nFind your hidden passion\, talents while embracing your true authentic self\nEnjoy daily yoga sessions that are playful\, non-competitive\, gently challenging and suitable for all levels of experience\nFind much-needed peace among the 15+ private acres and adjoining nature trails\nEnjoy hiking the gorgeous countryside\, visit local wineries\, and village market places\nLounge by the pool\, soak up the sun\, and restore your soul\nLet your inner child come out to laugh and play\nLeave the retreat transformed\, with a plan to move forward in your life with greater joy and purpose\n\n  \n  \n  \n  \nFor more information: \n  \nhttps://www.zaktihealth.com/gallery.html \n
URL:https://www.domainedemournac.com/calendar/be-ten-again-a-yoga-retreat-with-krista-s-moore-cyndi-bulka/
LOCATION:Domaine De Mournac\, Mournac\, Antugnac\, 11190\, France
CATEGORIES:Health & Wellbeing
ATTACH;FMTTYPE=image/png:https://www.domainedemournac.com/wp-content/uploads/2018/11/image1.png
END:VEVENT
END:VCALENDAR