BEGIN:VCALENDAR
VERSION:2.0
PRODID:-//Domaine de Mournac - ECPv4.6.23//NONSGML v1.0//EN
CALSCALE:GREGORIAN
METHOD:PUBLISH
X-WR-CALNAME:Domaine de Mournac
X-ORIGINAL-URL:https://www.domainedemournac.com
X-WR-CALDESC:Events for Domaine de Mournac
BEGIN:VEVENT
DTSTART;VALUE=DATE:20240427
DTEND;VALUE=DATE:20240504
DTSTAMP:20260419T162355
CREATED:20231108T074204Z
LAST-MODIFIED:20231108T074204Z
UID:3508-1714176000-1714780799@www.domainedemournac.com
SUMMARY:Connections- A Yoga Retreat to nourish body\, mind and spirit
DESCRIPTION:Pamela Wilson is an E-RYT 500-hour and TIY yoga teacher as well as a certified Thai Massage and reflexology therapist. She is the owner of the Radiant Spirit School of Yoga. \nTravel to the woodlands and vines of Southern France as we retreat to Domaine de Mournac for a yoga retreat designed to soothe the body and mind\, offer personal exploration and growth\, all while being connected to community\, delicious food and local wines and excursions. \nOur retreat space is off the tourist path and yet still easily accessible. The Domaine is a 14th century stone house situated on 15 areas of lush growth. A space of renewal\, contemplation\, a return to self and a connection to the world around. Daily meditation and asana practices designed to nourish and nurture. In addition\, you can spend your days at the heated pool\, on hikes or bike trips of the local area and your nights around the living room fire\, sharing laughter and games. \n
URL:https://www.domainedemournac.com/calendar/connections-a-yoga-retreat-to-nourish-body-mind-and-spirit/
LOCATION:Domaine De Mournac\, Mournac\, Antugnac\, 11190\, France
CATEGORIES:Health & Wellbeing
ATTACH;FMTTYPE=image/jpeg:https://www.domainedemournac.com/wp-content/uploads/2018/08/DSC_2817.jpg
ORGANIZER;CN="Pamela%20Wilson":MAILTO:ainofea42@gmail.com
END:VEVENT
END:VCALENDAR