BEGIN:VCALENDAR
VERSION:2.0
PRODID:-//Domaine de Mournac - ECPv4.6.23//NONSGML v1.0//EN
CALSCALE:GREGORIAN
METHOD:PUBLISH
X-WR-CALNAME:Domaine de Mournac
X-ORIGINAL-URL:https://www.domainedemournac.com
X-WR-CALDESC:Events for Domaine de Mournac
BEGIN:VEVENT
DTSTART;VALUE=DATE:20190418
DTEND;VALUE=DATE:20190426
DTSTAMP:20260419T210906
CREATED:20181114T143634Z
LAST-MODIFIED:20181219T200826Z
UID:2635-1555545600-1556236799@www.domainedemournac.com
SUMMARY:Easter Yoga Teachers Retreat with Grace Tempany
DESCRIPTION:Join Grace Tempany for a retreat specifically designed for other teachers! \nHere is what Grace says: \n12 of us commit to and co-create a weeklong retreat. It will be run by us and for us\, teachers sharing the space-holding for other teachers. \n? There are 6 full days and 12 teaching slots\, so each person just teaches or leads 1 and gets to relax and enjoy the other 11. Each session could be like a mini-workshop (yoga class/meditation/talk/practice/healing) where the teacher can showcases his/her offering. \n? To make it affordable we go self-catering\, we visit the local marché and just have a rota of sorts perhaps. \n? Basically\, we have a retreat but we also just have a holiday! The pool\, lavender and vineyards are ready and waiting. Free time will be plentiful and rest encouraged – I prefer the term ‘retreat holiday’! \n  \n? Flights are direct to Carcassonne with Ryanair and are currently reasonable – bags are extra but we need just bathing suits and yoga pants\, right? \n? The self-catering option shared by 12 of us means that including flights and some money in the kitty for provisions the entire week (including flights) will come in at less than €550! ??? To be honest I think it could be the cheapest and most amazing retreat in the history of retreats. \nSo\, can it work? ? Who is free between April 18-25 and wants to be part of this? (it’s Thursday to Thursday) Next deposit due January so I need a deposit from people soon enough ??Send me a message and let’s see what magic we can co-create \n  \ngracetempany@gmail.com \n  \n  \n  \n
URL:https://www.domainedemournac.com/calendar/easter-yin-yoga-retreat-with-grace-isaac/
LOCATION:Domaine De Mournac\, Mournac\, Antugnac\, 11190\, France
CATEGORIES:Health & Wellbeing
ATTACH;FMTTYPE=image/jpeg:https://www.domainedemournac.com/wp-content/uploads/2018/10/Grace-Tempany.jpg
END:VEVENT
END:VCALENDAR