BEGIN:VCALENDAR
VERSION:2.0
PRODID:-//Domaine de Mournac - ECPv4.6.23//NONSGML v1.0//EN
CALSCALE:GREGORIAN
METHOD:PUBLISH
X-WR-CALNAME:Domaine de Mournac
X-ORIGINAL-URL:https://www.domainedemournac.com
X-WR-CALDESC:Events for Domaine de Mournac
BEGIN:VEVENT
DTSTART;VALUE=DATE:20190830
DTEND;VALUE=DATE:20190907
DTSTAMP:20260419T175320
CREATED:20181120T110835Z
LAST-MODIFIED:20190129T083404Z
UID:2696-1567123200-1567814399@www.domainedemournac.com
SUMMARY:Feel Great Retreats with Matt & Alice
DESCRIPTION:Immerse Yourself\nJoin Alice and Matt for the second edition of Feel Great Retreats\, crafted to offer practices that will get your heart pumping\, your face glowing and your mouth laughing. \nThey’ve joined forces to blend together their teachings of yoga and meditation with vibrant\, and most importantly fun\, fitness activities \nDownload the brochure here!\n  \nFor more information & booking\, please contact Alice or Matt: \n  \nalice@moretoyoga.com \nmatt.feczko@gmail.com \n
URL:https://www.domainedemournac.com/calendar/feel-great-retreat-with-matt-alice/
LOCATION:Domaine De Mournac\, Mournac\, Antugnac\, 11190\, France
CATEGORIES:Health & Wellbeing
ATTACH;FMTTYPE=image/jpeg:https://www.domainedemournac.com/wp-content/uploads/2018/11/WhatsApp-Image-2019-01-22-at-16.38.581-e1548750823937.jpeg
END:VEVENT
END:VCALENDAR