BEGIN:VCALENDAR
VERSION:2.0
PRODID:-//Domaine de Mournac - ECPv4.6.23//NONSGML v1.0//EN
CALSCALE:GREGORIAN
METHOD:PUBLISH
X-WR-CALNAME:Domaine de Mournac
X-ORIGINAL-URL:https://www.domainedemournac.com
X-WR-CALDESC:Events for Domaine de Mournac
BEGIN:VEVENT
DTSTART;VALUE=DATE:20210412
DTEND;VALUE=DATE:20210506
DTSTAMP:20260419T145856
CREATED:20201119T132813Z
LAST-MODIFIED:20201119T132813Z
UID:3051-1618185600-1620259199@www.domainedemournac.com
SUMMARY:FORMATION DE 200HR DE PROFESSEUR DE YOGA EN ASHTANGA ET VINYASA
DESCRIPTION:\nUNE EXPERIENCE PERSONNELLE POUR S’IMMERGER DANS LA RENCONTRE DE SOI\n\n\nLa formation dispensée par Coraline et Midya vous permettra d’acquérir les connaissances requises pour enseigner en sécurité des cours de vinyasa flow. Anatomie\, philosophie\, alignements\, techniques d’ajustement\, outils pour créer un cours et enseigner\, méditation\, Pranayama… \n\n\nLES OBJECTIFS DE LA FORMATION\n\n\nConstruire une séance en respectant les règles anatomiques Enseigner en sécurité des cours de Vinyasa Flow \nConnaître les alignements des postures de la 1ère série d’Ashtanga \nConnaître les variations et modifications des postures de la 1ère série d’Ashtanga \nConnaître les principaux noms des postures en Sanskrit Apprentissage de l’anatomie appliquée aux postures Connaître les fondements philosophiques Compréhension des principaux Pranayama \nÊtre apte à guider une courte méditation \n\nhttps://www.midyayoga.com/teacher-training \n
URL:https://www.domainedemournac.com/calendar/formation-de-200hr-de-professeur-de-yoga-en-ashtanga-et-vinyasa/
LOCATION:Domaine De Mournac\, Mournac\, Antugnac\, 11190\, France
CATEGORIES:Health & Wellbeing
ATTACH;FMTTYPE=image/jpeg:https://www.domainedemournac.com/wp-content/uploads/2020/11/99B1579E-BACB-4356-A1F7-6BB32DC3866F.jpeg
END:VEVENT
END:VCALENDAR