BEGIN:VCALENDAR
VERSION:2.0
PRODID:-//Domaine de Mournac - ECPv4.6.23//NONSGML v1.0//EN
CALSCALE:GREGORIAN
METHOD:PUBLISH
X-WR-CALNAME:Domaine de Mournac
X-ORIGINAL-URL:https://www.domainedemournac.com
X-WR-CALDESC:Events for Domaine de Mournac
BEGIN:VEVENT
DTSTART;VALUE=DATE:20241012
DTEND;VALUE=DATE:20241020
DTSTAMP:20260419T145824
CREATED:20230315T060740Z
LAST-MODIFIED:20230315T060740Z
UID:3360-1728691200-1729382399@www.domainedemournac.com
SUMMARY:GYPSET Yoga retreats with Laurel and Melissa
DESCRIPTION:\n\nSouthern France: Explore the Pyrenees\n//\nYoga + Mountains + Wine + Adventure\n\n\n\n\n\n\n\nOctober 12-19\, 2024\n\n\n\n\n\n\nSpend a week in beautiful Southern France! This French countryside escape is hidden and quiet\, tucked away at the foothills of the Pyrenees Mountains\, surrounded by vineyards\, castles and medieval towns. Tranquil\, luxurious and charming\, this is your ideal countryside escape and easily accessible from Toulouse and Carcassonne. \n\n\n\n\n\n\n\n\n\n\n\nHighlights\nTwice-daily yoga classes taught by Laurel + Melissa\, 3 healthy\, nutritious meals daily\, wine tasting with a local vintner\, a sunrise hike and a market on Sunday with local artists. Make time for self-care and chill by the heated pool or book a massage. \nSample Daily Schedule\n6:30 coffee/tea\n7:00 Sunrise meditation\n8:00 Vinyasa Yoga\n9:00 Breakfast\nDaily excursion (optional)\n2:00 Lunch\n7:00 Dinner\n8:00 Restorative or Yin Yoga (alternates before & after dinner)\n\n\n\n\n\n\nA GYPSET Yoga Retreat with Melissa and Laurel was exactly what my corporate mama soul needed to ensure I was refreshed and re-energized after a long year of work\, building teams\, and deadlines. It was the perfect mix of connectedness with the other attendees\, a peaceful time on my mat\, and good workouts that challenged my mind and body. The organic from-scratch meals were another way to nourish and replenish\, and I’m so grateful for this time away with the beautiful leadership of Melissa and Laurel. This is the best investment I’ve made for myself this year and cannot wait for my next retreat!\nLeilani B\nMinneapolis\, MN\n\n\n\n\n\n\nFind out more here\n
URL:https://www.domainedemournac.com/calendar/gypset-yoga-retreats-with-laurel-and-melissa/
LOCATION:Domaine De Mournac\, Mournac\, Antugnac\, 11190\, France
CATEGORIES:Food & Language,Health & Wellbeing
ATTACH;FMTTYPE=image/png:https://www.domainedemournac.com/wp-content/uploads/2023/03/Screen-Shot-2023-03-15-at-07.06.07.png
END:VEVENT
END:VCALENDAR