BEGIN:VCALENDAR
VERSION:2.0
PRODID:-//Domaine de Mournac - ECPv4.6.23//NONSGML v1.0//EN
CALSCALE:GREGORIAN
METHOD:PUBLISH
X-WR-CALNAME:Domaine de Mournac
X-ORIGINAL-URL:https://www.domainedemournac.com
X-WR-CALDESC:Events for Domaine de Mournac
BEGIN:VEVENT
DTSTART;VALUE=DATE:20190906
DTEND;VALUE=DATE:20190914
DTSTAMP:20260419T193043
CREATED:20181120T112151Z
LAST-MODIFIED:20181120T112151Z
UID:2699-1567728000-1568419199@www.domainedemournac.com
SUMMARY:Heal Her Retreats with Nicole & Pamela
DESCRIPTION:Awaken the goddess within you\nRetreat comes from the Latin Verb “to pull back.” \nJoin us for this blissful women’s wellness retreat where we’ll give you the chance to withdraw from your regular life\, find inspiration\, go deeper within yourself\, connect to like-minded souls\, become balanced and healthier\, rested and happier. \nReturn home feeling re-established\, re-energised looking at your life in a new way. \nEnjoy daily yoga and meditation sessions\, nourish yourself with mouth-watering vegetarian food\, enjoy plenty of laughter and smiles\, and learn how to fulfill your true potential with carefully-crafted inspiring workshops. \nLearn how to better manage your stress levels\, hormones and emotions so you can unleash the best ever version of you. The goddess. \nThe gentle vibes of our carefully selected luxury venue\, Domaine de Mournac\, framed by the Pyrenees mountains will naturally encourage you to slow down and savour the sweet surroundings. \nNestled in over fifteen acres of woodland and vines in the glorious Occitaine region of South West France\, you can spend your time basking in the sunshine\, taking a relaxing dip in the pool or simply discovering your own slice of peace and tranquility. \nCome along and join us for an unforgettable week of relaxation\, laughter and long lasting connections. \n  \n  \nFor booking details: \n  \nhttps://www.smarterchange.co.uk/p/hhr-sept-2019-step-into-your-inner-goddess \n
URL:https://www.domainedemournac.com/calendar/heal-her-retreats-with-nicole-pamela/
LOCATION:Domaine De Mournac\, Mournac\, Antugnac\, 11190\, France
CATEGORIES:Health & Wellbeing
ATTACH;FMTTYPE=image/jpeg:https://www.domainedemournac.com/wp-content/uploads/2018/11/Pamela-Nicole.jpeg
END:VEVENT
END:VCALENDAR