BEGIN:VCALENDAR
VERSION:2.0
PRODID:-//Domaine de Mournac - ECPv4.6.23//NONSGML v1.0//EN
CALSCALE:GREGORIAN
METHOD:PUBLISH
X-WR-CALNAME:Domaine de Mournac
X-ORIGINAL-URL:https://www.domainedemournac.com
X-WR-CALDESC:Events for Domaine de Mournac
BEGIN:VEVENT
DTSTART;VALUE=DATE:20250913
DTEND;VALUE=DATE:20250921
DTSTAMP:20260419T150003
CREATED:20241208T091149Z
LAST-MODIFIED:20241208T091149Z
UID:3580-1757721600-1758412799@www.domainedemournac.com
SUMMARY:Joe's Family Birthday Yoga Week - Private Event
DESCRIPTION:
URL:https://www.domainedemournac.com/calendar/joes-family-birthday-yoga-week-private-event/
LOCATION:Domaine De Mournac\, Mournac\, Antugnac\, 11190\, France
ATTACH;FMTTYPE=image/jpeg:https://www.domainedemournac.com/wp-content/uploads/2019/01/LiB2018-123-online-copy.jpeg
END:VEVENT
END:VCALENDAR