BEGIN:VCALENDAR
VERSION:2.0
PRODID:-//Domaine de Mournac - ECPv4.6.23//NONSGML v1.0//EN
CALSCALE:GREGORIAN
METHOD:PUBLISH
X-WR-CALNAME:Domaine de Mournac
X-ORIGINAL-URL:https://www.domainedemournac.com
X-WR-CALDESC:Events for Domaine de Mournac
BEGIN:VEVENT
DTSTART;VALUE=DATE:20190629
DTEND;VALUE=DATE:20190707
DTSTAMP:20260419T174821
CREATED:20181120T103644Z
LAST-MODIFIED:20190212T110131Z
UID:2681-1561766400-1562457599@www.domainedemournac.com
SUMMARY:Live Well Bloom
DESCRIPTION:Treat yourself to a week away in the glorious South of France this summer 2019. From June 29th to July 6th you will be immersed in complete relaxation and bliss. Live Well Bloom will be delighted to welcome you to the luxurious Domaine de Mournac\, only 40 minutes from the medieval city of Carcassonne\, with a bubbly reception and a week of indulgences just for you! \n\n\nFor more information\, visit https://livewellbloom.com/retreats/\n\n\n
URL:https://www.domainedemournac.com/calendar/live-well-bloom/
LOCATION:Domaine De Mournac\, Mournac\, Antugnac\, 11190\, France
CATEGORIES:Health & Wellbeing
ATTACH;FMTTYPE=image/jpeg:https://www.domainedemournac.com/wp-content/uploads/2018/08/DJI_0087-1.jpg
END:VEVENT
END:VCALENDAR