BEGIN:VCALENDAR
VERSION:2.0
PRODID:-//Domaine de Mournac - ECPv4.6.23//NONSGML v1.0//EN
CALSCALE:GREGORIAN
METHOD:PUBLISH
X-WR-CALNAME:Domaine de Mournac
X-ORIGINAL-URL:https://www.domainedemournac.com
X-WR-CALDESC:Events for Domaine de Mournac
BEGIN:VEVENT
DTSTART;VALUE=DATE:20260516
DTEND;VALUE=DATE:20260524
DTSTAMP:20260419T131859
CREATED:20231119T053339Z
LAST-MODIFIED:20250922T075659Z
UID:3513-1778889600-1779580799@www.domainedemournac.com
SUMMARY:Mary Magdalene Pilgrimage
DESCRIPTION:A pilgrimage to Mary Magdalene is a pilgrimage of the heart.  If it is calling\, perhaps it is time to surrender to the inner call of your soul to take what might be the most profound journey of your life. \nWhy This Pilgrimage? \nThe energy of Mary Magdalene is very strong right now as she is supporting the evolution of our planet through the Divine Sophia energy to bring back the core teachings of Yeshua to assist in healing our beautiful world. \nAs those who strongly feel their connection to the Essene\, Cathar and Magdalene energy\, we gather in the south of France to explore the sacred sites and embody the energy available to us at this pivotal point in our history. \nWe travel to Sainte Maximin de la Baume\, Sainte Maries de la Mer\, Montsegur\, Vezelay\, Chartres and many more of the sacred sites in France to anchor and hold the space for our own lives to be enriched by the wisdom available in these sacred sites and to help heal our collective wounds as a planet. \nWe will allow the magic of these ancient sites to permeate our souls and connect deeply to the Magdalene energy and the divine feminine\, incorporating ceremony to deepen the process whenever possible. \nThe trip is designed to facilitate a deep inner journey with circles and discussion as well a connection to sister/brother hood made powerful by the intimacy of a shared spiritual experience. \n
URL:https://www.domainedemournac.com/calendar/mary-magdalene-pilgrimage/
LOCATION:Domaine De Mournac\, Mournac\, Antugnac\, 11190\, France
CATEGORIES:Spiritual Journey
ATTACH;FMTTYPE=image/jpeg:https://www.domainedemournac.com/wp-content/uploads/2023/11/Rennes-de-chateau-church.jpg
ORGANIZER;CN="Ariana%20Brackenbury":MAILTO:pilgrimage@arianabrackenbury.com
END:VEVENT
END:VCALENDAR