BEGIN:VCALENDAR
VERSION:2.0
PRODID:-//Domaine de Mournac - ECPv4.6.23//NONSGML v1.0//EN
CALSCALE:GREGORIAN
METHOD:PUBLISH
X-WR-CALNAME:Domaine de Mournac
X-ORIGINAL-URL:https://www.domainedemournac.com
X-WR-CALDESC:Events for Domaine de Mournac
BEGIN:VEVENT
DTSTART;VALUE=DATE:20260620
DTEND;VALUE=DATE:20260628
DTSTAMP:20260419T132316
CREATED:20250922T073842Z
LAST-MODIFIED:20250922T073842Z
UID:3621-1781913600-1782604799@www.domainedemournac.com
SUMMARY:Midsummer Yoga & Meditation Retreat: Connecting with Nature	with Elleke van Kraalingen
DESCRIPTION:This wonderful retreat is meant for those who love Yoga and Nature and who would love to learn to connect on a deeper level with Nature: with the Elements\, Plants\, Animals and with the Earth. In this retreat we intend to connect and to communicate with Nature on a subtle level. In order to do so we need expand our awareness and connect with our own true nature. Our yoga and meditation sessions will be designed around this theme. \nThere will be 2 yoga & meditation sessions a day\, in which we’ll practice our alignment and atonement. Each morning we’ll also have an outdoor meditation in nature\, where we’ll explore and connect with different Nature kingdoms. On one day our practical outdoor session will be combined with a lovely hike in the beautiful surroundings. \nAll afternoons are free to relax\, swim\, read\, hike\, or explore the beautiful region of Occitanie! \n
URL:https://www.domainedemournac.com/calendar/midsummer-yoga-meditation-retreat-connecting-with-naturewith-elleke-van-kraalingen/
LOCATION:Domaine De Mournac\, Mournac\, Antugnac\, 11190\, France
ATTACH;FMTTYPE=image/png:https://www.domainedemournac.com/wp-content/uploads/2025/09/GeplakteAfbeelding-1.png
END:VEVENT
END:VCALENDAR