BEGIN:VCALENDAR
VERSION:2.0
PRODID:-//Domaine de Mournac - ECPv4.6.23//NONSGML v1.0//EN
CALSCALE:GREGORIAN
METHOD:PUBLISH
X-WR-CALNAME:Domaine de Mournac
X-ORIGINAL-URL:https://www.domainedemournac.com
X-WR-CALDESC:Events for Domaine de Mournac
BEGIN:VEVENT
DTSTART;VALUE=DATE:20190525
DTEND;VALUE=DATE:20190602
DTSTAMP:20260419T175452
CREATED:20181114T144050Z
LAST-MODIFIED:20190226T104613Z
UID:2659-1558742400-1559433599@www.domainedemournac.com
SUMMARY:Gentle Yoga Adventure with Cyndi Bulka
DESCRIPTION:Relax in the rich countryside of the stunning Occitanie region of south west France while you enjoy all that the spectacular history and nature the area has to offer. \n Come alone or with your partner\, friend or family member and create wonderful memories to cherish a lifetime.  \nEnjoy gentle\, non-intimidating Yoga classes each morning to unwind and balance your body\, freeing your mind and nourish your heart.  \nThe Yoga is non-competitive\, gently challenging and accessible to all levels of experience. \n**LAST FEW SPACES REMAINING** \nTo book email: \nCyndi@zaktihealth.com  or text/call 919~247~1119 \n
URL:https://www.domainedemournac.com/calendar/mothers-daughters-sisters-and-friends-gentle-yoga-adventure-with-cyndi-bulka/
LOCATION:Domaine De Mournac\, Mournac\, Antugnac\, 11190\, France
CATEGORIES:Health & Wellbeing
ATTACH;FMTTYPE=image/jpeg:https://www.domainedemournac.com/wp-content/uploads/2018/11/cyndi-in-greece.jpg
END:VEVENT
END:VCALENDAR