BEGIN:VCALENDAR
VERSION:2.0
PRODID:-//Domaine de Mournac - ECPv4.6.23//NONSGML v1.0//EN
CALSCALE:GREGORIAN
METHOD:PUBLISH
X-WR-CALNAME:Domaine de Mournac
X-ORIGINAL-URL:https://www.domainedemournac.com
X-WR-CALDESC:Events for Domaine de Mournac
BEGIN:VEVENT
DTSTART;VALUE=DATE:20240526
DTEND;VALUE=DATE:20240606
DTSTAMP:20260419T150007
CREATED:20231107T085537Z
LAST-MODIFIED:20231107T085537Z
UID:3495-1716681600-1717631999@www.domainedemournac.com
SUMMARY:Mysteries of the Mary's and the Magdalene  Priestess Pilgrimage
DESCRIPTION:Immerse in the mysteries and the teachings of the Mary’s and the Magdalene. We will be deeply communing with the Sacred Sites\, Holy Lands & Waters\, Mountains\, Vortexes\, Castles and Caves that hold ancient Grail Wisdom of the Essenes and Cathars\, and our Dragon Rose Lineage. \nOur journey takes place within the living Venus Temple of Southern France. \n
URL:https://www.domainedemournac.com/calendar/mysteries-of-the-marys-and-the-magdalene-priestess-pilgrimage/
LOCATION:Domaine De Mournac\, Mournac\, Antugnac\, 11190\, France
CATEGORIES:Health & Wellbeing
ATTACH;FMTTYPE=image/jpeg:https://www.domainedemournac.com/wp-content/uploads/2023/11/IMG_9266.jpeg
END:VEVENT
END:VCALENDAR