BEGIN:VCALENDAR
VERSION:2.0
PRODID:-//Domaine de Mournac - ECPv4.6.23//NONSGML v1.0//EN
CALSCALE:GREGORIAN
METHOD:PUBLISH
X-WR-CALNAME:Domaine de Mournac
X-ORIGINAL-URL:https://www.domainedemournac.com
X-WR-CALDESC:Events for Domaine de Mournac
BEGIN:VEVENT
DTSTART;VALUE=DATE:20220529
DTEND;VALUE=DATE:20220604
DTSTAMP:20260419T161728
CREATED:20211019T122810Z
LAST-MODIFIED:20211019T122810Z
UID:3101-1653782400-1654300799@www.domainedemournac.com
SUMMARY:Private event
DESCRIPTION:
URL:https://www.domainedemournac.com/calendar/private-event/
LOCATION:Domaine De Mournac\, Mournac\, Antugnac\, 11190\, France
ATTACH;FMTTYPE=image/jpeg:https://www.domainedemournac.com/wp-content/uploads/2020/12/H7.jpg
END:VEVENT
END:VCALENDAR