BEGIN:VCALENDAR
VERSION:2.0
PRODID:-//Domaine de Mournac - ECPv4.6.23//NONSGML v1.0//EN
CALSCALE:GREGORIAN
METHOD:PUBLISH
X-WR-CALNAME:Domaine de Mournac
X-ORIGINAL-URL:https://www.domainedemournac.com
X-WR-CALDESC:Events for Domaine de Mournac
BEGIN:VEVENT
DTSTART;VALUE=DATE:20230715
DTEND;VALUE=DATE:20230721
DTSTAMP:20260419T161904
CREATED:20230113T135515Z
LAST-MODIFIED:20230113T135515Z
UID:3317-1689379200-1689897599@www.domainedemournac.com
SUMMARY:Retraite avec Gabrielle
DESCRIPTION:More information coming soon \n
URL:https://www.domainedemournac.com/calendar/retraite-avec-gabrielle/
LOCATION:Domaine De Mournac\, Mournac\, Antugnac\, 11190\, France
CATEGORIES:Health & Wellbeing
ATTACH;FMTTYPE=image/png:https://www.domainedemournac.com/wp-content/uploads/2022/04/Screen-Shot-2022-04-04-at-17.05.10.png
END:VEVENT
END:VCALENDAR