BEGIN:VCALENDAR
VERSION:2.0
PRODID:-//Domaine de Mournac - ECPv4.6.23//NONSGML v1.0//EN
CALSCALE:GREGORIAN
METHOD:PUBLISH
X-WR-CALNAME:Domaine de Mournac
X-ORIGINAL-URL:https://www.domainedemournac.com
X-WR-CALDESC:Events for Domaine de Mournac
BEGIN:VEVENT
DTSTART;VALUE=DATE:20260711
DTEND;VALUE=DATE:20260719
DTSTAMP:20260419T132017
CREATED:20241206T041252Z
LAST-MODIFIED:20250922T080255Z
UID:3567-1783728000-1784419199@www.domainedemournac.com
SUMMARY:Retreat with Hélène LAPORTE
DESCRIPTION:
URL:https://www.domainedemournac.com/calendar/retreat-with-helene-laporte/
LOCATION:Domaine De Mournac\, Mournac\, Antugnac\, 11190\, France
ATTACH;FMTTYPE=image/jpeg:https://www.domainedemournac.com/wp-content/uploads/2019/01/LiB2018-15-online-copy.jpeg
ORGANIZER;CN="H%C3%A9l%C3%A8ne%20LAPORTE%20%3Chelenelaporte15%40gmail.com%3E":MAILTO:helenelaporte15@gmail.com
END:VEVENT
END:VCALENDAR