BEGIN:VCALENDAR
VERSION:2.0
PRODID:-//Domaine de Mournac - ECPv4.6.23//NONSGML v1.0//EN
CALSCALE:GREGORIAN
METHOD:PUBLISH
X-WR-CALNAME:Domaine de Mournac
X-ORIGINAL-URL:https://www.domainedemournac.com
X-WR-CALDESC:Events for Domaine de Mournac
BEGIN:VEVENT
DTSTART;VALUE=DATE:20230618
DTEND;VALUE=DATE:20230626
DTSTAMP:20260419T162020
CREATED:20230419T121346Z
LAST-MODIFIED:20230420T165051Z
UID:3382-1687046400-1687737599@www.domainedemournac.com
SUMMARY:Somatic Stretch; Somatic Sound
DESCRIPTION:A second week for this season has just been confirmed by Meredith – book your space now! \nhttps://www.geometryofhealing.com/south-of-france-retreat \n
URL:https://www.domainedemournac.com/calendar/retreat-with-meredith-2/
LOCATION:Domaine De Mournac\, Mournac\, Antugnac\, 11190\, France
ATTACH;FMTTYPE=image/jpeg:https://www.domainedemournac.com/wp-content/uploads/2020/02/Meredith-Sands-Keator.jpg
END:VEVENT
END:VCALENDAR