BEGIN:VCALENDAR
VERSION:2.0
PRODID:-//Domaine de Mournac - ECPv4.6.23//NONSGML v1.0//EN
CALSCALE:GREGORIAN
METHOD:PUBLISH
X-WR-CALNAME:Domaine de Mournac
X-ORIGINAL-URL:https://www.domainedemournac.com
X-WR-CALDESC:Events for Domaine de Mournac
BEGIN:VEVENT
DTSTART;VALUE=DATE:20220701
DTEND;VALUE=DATE:20220708
DTSTAMP:20260419T162048
CREATED:20200907T100206Z
LAST-MODIFIED:20210315T085048Z
UID:3025-1656633600-1657238399@www.domainedemournac.com
SUMMARY:Rhythm & Space 2 with Jackie Szabo
DESCRIPTION:The tide song and skyline have inspired a week of deep-diving into the rhythm and space of our bodies. Through Vinyasa\, meditation and Pranayama\, we will explore ourselves and our surroundings. Farm-to-table meals\, Vinyasa in the sweet wind\, this place is no accident. We wanted to learn together with you- how our feet can find their own meter and how our bodies can hold more breath\, we think the answers are on this sacred spot. \n$500 Deposit to reserve your spot \nemail: yogaretreatsbyjackie@gmail.com \nCLICK HERE \n
URL:https://www.domainedemournac.com/calendar/rhythm-space-2-with-jackie-szabo/
LOCATION:Domaine De Mournac\, Mournac\, Antugnac\, 11190\, France
CATEGORIES:Health & Wellbeing
ATTACH;FMTTYPE=image/jpeg:https://www.domainedemournac.com/wp-content/uploads/2020/09/IMG_3421-Jackie-Szabo.jpg
END:VEVENT
END:VCALENDAR