BEGIN:VCALENDAR
VERSION:2.0
PRODID:-//Domaine de Mournac - ECPv4.6.23//NONSGML v1.0//EN
CALSCALE:GREGORIAN
METHOD:PUBLISH
X-WR-CALNAME:Domaine de Mournac
X-ORIGINAL-URL:https://www.domainedemournac.com
X-WR-CALDESC:Events for Domaine de Mournac
BEGIN:VEVENT
DTSTART;VALUE=DATE:20230529
DTEND;VALUE=DATE:20230602
DTSTAMP:20260419T162406
CREATED:20230113T140538Z
LAST-MODIFIED:20230113T140906Z
UID:3320-1685318400-1685663999@www.domainedemournac.com
SUMMARY:Stay Well Health - Yoga retreat with Sarah
DESCRIPTION:More information coming soon \n
URL:https://www.domainedemournac.com/calendar/stay-well-health-yoga-retreat-with-sarah/
LOCATION:Domaine De Mournac\, Mournac\, Antugnac\, 11190\, France
CATEGORIES:Health & Wellbeing
ATTACH;FMTTYPE=image/jpeg:https://www.domainedemournac.com/wp-content/uploads/2023/01/StayWell-20.jpeg
END:VEVENT
END:VCALENDAR