BEGIN:VCALENDAR
VERSION:2.0
PRODID:-//Domaine de Mournac - ECPv4.6.23//NONSGML v1.0//EN
CALSCALE:GREGORIAN
METHOD:PUBLISH
X-WR-CALNAME:Domaine de Mournac
X-ORIGINAL-URL:https://www.domainedemournac.com
X-WR-CALDESC:Events for Domaine de Mournac
BEGIN:VEVENT
DTSTART;VALUE=DATE:20240720
DTEND;VALUE=DATE:20240728
DTSTAMP:20260419T145648
CREATED:20231107T092228Z
LAST-MODIFIED:20231107T092228Z
UID:3503-1721433600-1722124799@www.domainedemournac.com
SUMMARY:The Art of Alchemy
DESCRIPTION:Melissa D’Antoni\, MACP is an international retreat facilitator\, coach\,  catalyst and the visionary force behind The Fire Tree School of Alchemical Arts and the Fire Tree Method® — a unique blend of the expressive and transformative arts within a strong coaching framework. As a trained psychotherapist\, Melissa left the clinical model 20 years ago to birth this holistic\, right-left brain\, multidimensional approach to wholeness and well-being\, the cutting edge of using the creative arts for transformation\, evolving beyond trauma patterns and living in our full creative potential on the canvas and off. \n
URL:https://www.domainedemournac.com/calendar/the-art-of-alchemy/
LOCATION:Domaine De Mournac\, Mournac\, Antugnac\, 11190\, France
ATTACH;FMTTYPE=image/jpeg:https://www.domainedemournac.com/wp-content/uploads/2023/11/025d4c5a2efe49b0975e2c1f75c39b57.jpeg
ORGANIZER;CN="Melissa":MAILTO:melissa@firetreestudios.com
END:VEVENT
END:VCALENDAR