BEGIN:VCALENDAR
VERSION:2.0
PRODID:-//Domaine de Mournac - ECPv4.6.23//NONSGML v1.0//EN
CALSCALE:GREGORIAN
METHOD:PUBLISH
X-WR-CALNAME:Domaine de Mournac
X-ORIGINAL-URL:https://www.domainedemournac.com
X-WR-CALDESC:Events for Domaine de Mournac
BEGIN:VEVENT
DTSTART;VALUE=DATE:20190929
DTEND;VALUE=DATE:20191005
DTSTAMP:20260419T175025
CREATED:20190212T105643Z
LAST-MODIFIED:20190212T105643Z
UID:2795-1569715200-1570233599@www.domainedemournac.com
SUMMARY:The Deep Dive Retreat
DESCRIPTION:The Deep Dive Retreat is a unique blend of yoga\, personal growth\, coaching\, bodywork and outdoor activities. The experience harnesses the transformative potential of working simultaneously with mind and body. It was founded by Emma & Rosie Markwick – born out of a combination of Emma’s background in coaching & psychology and Rosie’s experience as a yoga teacher & bodyworker. \nDuring a Deep Dive Retreat\, twice daily yoga sessions are interspersed with opportunities to improve overall psychological well-being. These take place in group ‘mind’ sessions\, guided reflection and if you choose\, in 1-1 coaching. We share our learnings on how your mind impacts your life experience and how you can use the wisdom of the body to learn and grow. \nJoin Emma & Rosie for this 5 night signature Deep Dive Retreat\, returning to South West France. For more information and to apply\, head to www.thedeepdiveretreat.com or email hello@thedeepdiveretreat.com \n
URL:https://www.domainedemournac.com/calendar/the-deep-dive-retreat-2/
LOCATION:Domaine De Mournac\, Mournac\, Antugnac\, 11190\, France
CATEGORIES:Health & Wellbeing
ATTACH;FMTTYPE=image/jpeg:https://www.domainedemournac.com/wp-content/uploads/2019/02/IMG-20190123-WA0005.jpg
END:VEVENT
END:VCALENDAR