BEGIN:VCALENDAR
VERSION:2.0
PRODID:-//Domaine de Mournac - ECPv4.6.23//NONSGML v1.0//EN
CALSCALE:GREGORIAN
METHOD:PUBLISH
X-WR-CALNAME:Domaine de Mournac
X-ORIGINAL-URL:https://www.domainedemournac.com
X-WR-CALDESC:Events for Domaine de Mournac
BEGIN:VEVENT
DTSTART;VALUE=DATE:20251004
DTEND;VALUE=DATE:20251010
DTSTAMP:20260419T145528
CREATED:20221206T093255Z
LAST-MODIFIED:20250731T130707Z
UID:3279-1759536000-1760054399@www.domainedemournac.com
SUMMARY:The Deep Dive with Emma & Rosie
DESCRIPTION:\n					\n						The Deep Dive Retreat is unique blend of yoga\, personal development and coaching designed to strengthen the body\, calm the mind and nurture the soul. \nAt its core\, The Deep Dive Retreat helps people bring the mind & body connection into their everyday lives in a meaningful way. Daily yoga sessions are interspersed with supportive group learning experiences. You will learn about the wisdom of the body\, gain tools for psychological well-being and have the opportunity to gain clarity on any decisions you are facing. \nFind out more here \n\n\n					\n				\n
URL:https://www.domainedemournac.com/calendar/the-deep-dive-with-emma-rosie/
LOCATION:Domaine De Mournac\, Mournac\, Antugnac\, 11190\, France
CATEGORIES:Health & Wellbeing
ATTACH;FMTTYPE=image/jpeg:https://www.domainedemournac.com/wp-content/uploads/2018/07/etienne-girardet-360034-unsplash.jpg
END:VEVENT
END:VCALENDAR