BEGIN:VCALENDAR
VERSION:2.0
PRODID:-//Domaine de Mournac - ECPv4.6.23//NONSGML v1.0//EN
CALSCALE:GREGORIAN
METHOD:PUBLISH
X-WR-CALNAME:Domaine de Mournac
X-ORIGINAL-URL:https://www.domainedemournac.com
X-WR-CALDESC:Events for Domaine de Mournac
BEGIN:VEVENT
DTSTART;VALUE=DATE:20180505
DTEND;VALUE=DATE:20180512
DTSTAMP:20260419T193200
CREATED:20180205T174426Z
LAST-MODIFIED:20180316T154812Z
UID:2207-1525478400-1526083199@www.domainedemournac.com
SUMMARY:Vinyasa & Yin Yoga Retreat - with Sabi Kerr
DESCRIPTION:\n					\n						Kick start your Summer on this uplifting & reinvigorating Yoga Retreat\, in the heart of South West France.  \nJoin Sabi Kerr as she leads Vinyasa & Yin Yoga classes guaranteed to both challenge & inspire you. \nAllow yourself the chance to relax\, restore and unwind! \nDownload the full brochure here\n\n×FLASH SALE! \nAll prices reduced by €200! \nLimited offer\, book now! \n\n					\n				\n					\n						\nVinyasa Flow practice in the mornings\, and Yin in the afternoon\n\nExplore the French countryside and enjoy delicious healthy food.\n\nDedicate time to yourself this Summer\nBook now!Send an email to info@domainedemournac.com\nWe will send you a reservation and health indemnity form\, plus details on how to make your deposit payment. \n\n\n					\n				\n					\n						Yoga Instructor – Sabi Kerr\nSabi has had a passion for movement from a young age. Initially training in dance\, she has always loved the creativity\, joy and freedom of expression that comes with exploring the way the body moves. Her yoga addiction began when she realised that it went deeper than just making shapes with the body\, and she started to feel the positive benefits on her mind and on the rest of her life. She enjoys encouraging her students to explore what their bodies can do\, move in a way that feels good\, and have fun along the way. \nShe also has a big passion for self-development\, and loves supporting people to help them explore their purpose and manifest the life they’ve always wanted.  \n\n\n					\n				\n					\n						\n					\n					\n						\n							\n					\n				\n					\n						#fusion-testimonials-1 a{border-color:#fcfcfc;}#fusion-testimonials-1 a:hover\, #fusion-testimonials-1 .activeSlide{background-color: #fcfcfc;}.fusion-testimonials.classic.fusion-testimonials-1 .author:after{border-top-color:rgba(105\,117\,140\,0.54) !important;}\n“Yoga should make you want to smile!” \n\n\n					\n				\n					\n						The Proposed Schedule.fusion-tabs.fusion-tabs-1 .nav-tabs li a{border-top-color:#ebeaea;background-color:#ebeaea;}.fusion-tabs.fusion-tabs-1 .nav-tabs{background-color:rgba(7\,0\,58\,0.12);}.fusion-tabs.fusion-tabs-1 .nav-tabs li.active a\,.fusion-tabs.fusion-tabs-1 .nav-tabs li.active a:hover\,.fusion-tabs.fusion-tabs-1 .nav-tabs li.active a:focus{border-right-color:rgba(7\,0\,58\,0.12);}.fusion-tabs.fusion-tabs-1 .nav-tabs li.active a\,.fusion-tabs.fusion-tabs-1 .nav-tabs li.active a:hover\,.fusion-tabs.fusion-tabs-1 .nav-tabs li.active a:focus{background-color:rgba(7\,0\,58\,0.12);}.fusion-tabs.fusion-tabs-1 .nav-tabs li a:hover{background-color:rgba(7\,0\,58\,0.12);border-top-color:rgba(7\,0\,58\,0.12);}.fusion-tabs.fusion-tabs-1 .tab-pane{background-color:rgba(7\,0\,58\,0.12);}.fusion-tabs.fusion-tabs-1 .nav\,.fusion-tabs.fusion-tabs-1 .nav-tabs\,.fusion-tabs.fusion-tabs-1 .tab-content .tab-pane{border-color:#ebeaea;}SaturdaySunday - ThursdayFridaySaturday\n17:30 –  Group Transfer from Carcassonne Airport (make sure you prebook) \n19:30 – Welcome dinner and orientation meeting \nSunday - Thursday\n08:00 – Light snacks and juices \n08:30 – Yoga (Vinyasa Flow) \n10:00 – Breakfast \n11:00 – Excursion or free time \n14:00 – Light lunch or picnic \n16:00 – Yoga (Yin) \n19:00 – Evening meal \nFriday\n08:00 – Light snacks and juices \n08:30 – Yoga (Vinyasa Flow) \n10:00 – Breakfast and departure \n11:30 – Group transfer to Medieval Cite of Carcassonne \n\n\n\n\n\nIncluded excursions\nOptional excursions*\n\n\n\n\n\nHike to Mont-Sec \nVisit to Rennes-les-Chateau with guided tour \nLocal Sunday market at Esperaza \n\n\nBicycle tour \nVineyard tour \n\n\n\n\n\n*Additional charges apply \n\n\n					\n				\n					\n						Room Choice & Pricing×FLASH SALE! \nAll prices reduced by €200! \nLimited offer\, book now! \n\n					\n				\n					\n						\n\n					\n				\n					\n						OCCITANIE \nA LARGE\, SOUTH FACING ROOM WITH BEAUTIFUL VIEWS \n€800 pp for 3 people sharing a room in single beds \n\n\n					\n				\n					\n						\n\n					\n				\n					\n						GALAMUS \nA COSY\, GARDEN FACING ROOM \n€850 pp for 2 people sharing a room in single beds\, \nor \n€1\,500 for 1 person in a double bed \n\n\n					\n				\n					\n						\n\n					\n				\n					\n						\n\n					\n				\n					\n						\n\n					\n				\n					\n						THE OLD BAKEHOUSE \nA SELF-CONTAINED STUDIO APARTMENT \n€900 pp for 3 people sharing a room in single beds \n\n\n					\n				\n					\n						\n\n					\n				\n					\n						MONT SEC \nA BRIGHT ROOM WITH BEAUTIFUL VIEWS \n€950 pp for 2 people sharing a room in single beds \n\n\n					\n				\n					\n						\n\n					\n				\n					\n						\n\n					\n				\n					\n						\n\n					\n				\n					\n						AUDE \nA LIGHT AND AIRY ROOM WITH A FULL-SIZED BATH IN THE EN-SUITE \n€1\,100 pp for a double bed in a shared room\,  \n€1\,000 for a single bed in a shared room;  \nor  \n€1\,900 for 1 person in a double bed \n\n\n					\n				\n					\n						Deposit.reading-box-container-1 .element-bottomshadow:before\,.reading-box-container-1 .element-bottomshadow:after{opacity:0.7;}The deposit required to secure your booking is 25% of the price\, with the balance payable 8 weeks prior to your arrival. Payments can be made via PayPal or International Bank Transfer. All details will be provided at the point of booking×FLASH SALE! \nAll prices reduced by €200! \nLimited offer\, book now! \n\n					\n				\n					\n						Food\n\n					\n				\n					\n						\n\n					\n				\n					\n						As you will all know\, nutrition is just as important as exercise when it comes to maintaining a healthy lifestyle. So whilst you are focusing on your practice\, our retreat chef will be working just as hard to provide you with healthy but exceptionally tasty food. Using locally sourced and seasonal produce\, even using eggs from the chickens and produce from the garden where possible.\nFood is vegetarian and often vegan. All other dietary requirements can be catered for\, just let us know when you book.\nOf course\, you can’t travel all the way to France without sampling some of the local wines\, so we will provide you with local wine at dinner\, and even an optional excursion to visit some of the vineyards. You’ll be strolling through the vines so you may as well sample the output!\n\n\n					\n				\n					\n						How to get hereHave a look at our contact page for more details.\nRegular flights are provided by Ryanair from across the UK to CARCASSONNE AIRPORT.\nIncluded in your price is a group transfer at the time specified in the schedule above. Please state this at the time of booking.\nIf you are not arriving at the same time\, you can either hire a car to drive to the Domaine (45 minutes)\, or instead take the airport shuttle and the local train to nearby station of Couiza-Montazels. A member of the team can collect you from there.\nAlternative airport Toulouse\nIf arriving from Toulouse\, you can hire a car and drive 1hr 30 minutes to Domaine de Mournac which will give you the perfect chance to enjoy the beautiful French scenery.\n\nCar sharing – if you let us know your time of arrival we will try to match you up\n\n\n\n					\n				\n					\n						How to BookPlease get in touch if you have any questions and would like to book your place on this retreat\n\nEmail: info@domainedemournac.com\n\nCall us if you have and questions and want to talk to in person:  +33 785540161\nWe will send you a reservation form\, as well as details on how to make your deposit payment.\n\n\n					\n				\n
URL:https://www.domainedemournac.com/calendar/vinyasa-yin-yoga-retreat-sabi-kerr/
LOCATION:Domaine De Mournac\, Mournac\, Antugnac\, 11190\, France
CATEGORIES:Health & Wellbeing
ATTACH;FMTTYPE=image/jpeg:https://www.domainedemournac.com/wp-content/uploads/2018/02/IMG_0075.jpg
ORGANIZER;CN="Domaine%20de%20Mournac":MAILTO:info@domainedemournac.com
END:VEVENT
END:VCALENDAR