BEGIN:VCALENDAR
VERSION:2.0
PRODID:-//Domaine de Mournac - ECPv4.6.23//NONSGML v1.0//EN
CALSCALE:GREGORIAN
METHOD:PUBLISH
X-WR-CALNAME:Domaine de Mournac
X-ORIGINAL-URL:https://www.domainedemournac.com
X-WR-CALDESC:Events for Domaine de Mournac
BEGIN:VEVENT
DTSTART;VALUE=DATE:20191004
DTEND;VALUE=DATE:20191013
DTSTAMP:20260419T145646
CREATED:20190325T152318Z
LAST-MODIFIED:20190325T152318Z
UID:2826-1570147200-1570924799@www.domainedemournac.com
SUMMARY:Wander Free Wellness - Mindfulness & Culture
DESCRIPTION:Mindfully explore the natural beauty of the French countryside through daily yoga\, meditation\, nature walks & hikes\, local excursions to historic sites\, french cuisine & wine tasting\, and more.\n  \nYoga & Mindfulness\nConnect with yourself\nEach day will begin with optional meditation\, followed by a refreshing morning yoga flow. On some days\, we will offer a second yin\, restorative\, or slow flow class to help us restore from the day. \nThe mindfulness doesn’t stop in the yoga studio. I will be offering meditations and mindful walks in nature\, as well as opportunities to reflect and connect with yourself on a regular basis. \nSpecial Workshops\nIn addition to our yoga classes\, I will offer several special workshops. One will be a yin/restorative yoga class with reiki to help assist with relaxation and healing. Another will be a special intention setting/moon ceremony to connect with the cycles of nature and plant our intentions for new days to come. You’ll also have the opportunity to experience a mindful eating experience\, where Certified Health Coach Kate Watson from Feeding the Journey will teach us how to be present as we enjoy our meal. \nNew to yoga?\nIt’s a great time to get outside your comfort zone and try something new. I have experience working with all levels and ages. Whether you are just beginning your yoga journey or looking to advance your practice\, we are here for you. All classes and workshops will be tailored to your needs. Remember classes and workshops are optional so feel free to skip a day and take some free time\, this is your trip! \n  \nFor more details and to book:\n\nhttp://wanderfreewellness.com/france\n
URL:https://www.domainedemournac.com/calendar/wander-free-wellness-mindfulness-culture/
LOCATION:Domaine De Mournac\, Mournac\, Antugnac\, 11190\, France
CATEGORIES:Health & Wellbeing
ATTACH;FMTTYPE=image/jpeg:https://www.domainedemournac.com/wp-content/uploads/2019/03/Jen-Wyatt.jpeg
END:VEVENT
END:VCALENDAR