BEGIN:VCALENDAR
VERSION:2.0
PRODID:-//Domaine de Mournac - ECPv4.6.23//NONSGML v1.0//EN
CALSCALE:GREGORIAN
METHOD:PUBLISH
X-WR-CALNAME:Domaine de Mournac
X-ORIGINAL-URL:https://www.domainedemournac.com
X-WR-CALDESC:Events for Domaine de Mournac
BEGIN:VEVENT
DTSTART;VALUE=DATE:20240831
DTEND;VALUE=DATE:20240906
DTSTAMP:20260419T145959
CREATED:20240220T104709Z
LAST-MODIFIED:20240220T104709Z
UID:3532-1725062400-1725580799@www.domainedemournac.com
SUMMARY:Yoga And Art Fusion Retreat with Liana Hoffmann
DESCRIPTION:Embrace the exquisite journey of holistic wellness and self-discovery in the heart of France with our transformative 6-day retreat. This immersive experience\, nestled in the serene natural landscapes of Antugnac\, includes 5 nights of pure relaxation\, daily morning yoga sessions\, rejuvenating art workshops\, restorative and yin yoga sessions\, a captivating visit to Château Cathar Puilarens\, a soul-enriching cacao ceremony\, and so much more. Find your inner strength and clarity amidst the beauty of nature\, and align with your higher self as you delve into a colorful adventure of meditation\, community\, and exploration. Join us on this invigorating journey for a vibrant and fulfilling vacation that will restore your mind\, body\, and spirit. \n
URL:https://www.domainedemournac.com/calendar/yoga-and-art-fusion-retreat-with-liana-hoffmann/
LOCATION:Domaine De Mournac\, Mournac\, Antugnac\, 11190\, France
CATEGORIES:Health & Wellbeing
ATTACH;FMTTYPE=image/jpeg:https://www.domainedemournac.com/wp-content/uploads/2024/02/DSC7865.jpg
END:VEVENT
END:VCALENDAR