BEGIN:VCALENDAR
VERSION:2.0
PRODID:-//Domaine de Mournac - ECPv4.6.23//NONSGML v1.0//EN
CALSCALE:GREGORIAN
METHOD:PUBLISH
X-WR-CALNAME:Domaine de Mournac
X-ORIGINAL-URL:https://www.domainedemournac.com
X-WR-CALDESC:Events for Domaine de Mournac
BEGIN:VEVENT
DTSTART;VALUE=DATE:20260509
DTEND;VALUE=DATE:20260517
DTSTAMP:20260419T144232
CREATED:20250922T073355Z
LAST-MODIFIED:20260210T045644Z
UID:3616-1778284800-1778975999@www.domainedemournac.com
SUMMARY:Yoga\, Nature & Hiking Retreat with Imre van Kraalingen & Arnar Fonn
DESCRIPTION:Escape on a rejuvenating 8-day yoga and hiking retreat in the peaceful countryside of Southern France. Designed to help you unwind\, recharge\, and reconnect\, this retreat blends daily yoga practices with beautiful\, guided hikes and nature connection walks at the foot of the Pyrenees. Whether you’re looking for an active holiday\, a space to relieve stress\, or deepen your awareness of your body and nature\, you’ll find a supportive space to rest\, reset\, and enjoy. \nThis retreat is for you if you seek to:• Reconnect with your body through movement and nature• Release stress and tension \n• Begin or expand your yoga\, meditation and breathwork practice• Deepen your experience of nature• Eat well\, move mindfully\, and rest deeply \n
URL:https://www.domainedemournac.com/calendar/yoga-nature-hiking-retreat-with-imre-van-kraalingen-arnar-fonn/
LOCATION:Domaine De Mournac\, Mournac\, Antugnac\, 11190\, France
CATEGORIES:Health & Wellbeing
ATTACH;FMTTYPE=image/jpeg:https://www.domainedemournac.com/wp-content/uploads/2019/01/LiB2018-15-online-copy.jpeg
ORGANIZER;CN="Imre%20van%20Kraalingen%20%26%20Arnar%20Fonn":MAILTO:vankraalingenimre@gmail.com
END:VEVENT
END:VCALENDAR