BEGIN:VCALENDAR
VERSION:2.0
PRODID:-//Domaine de Mournac - ECPv4.6.23//NONSGML v1.0//EN
CALSCALE:GREGORIAN
METHOD:PUBLISH
X-WR-CALNAME:Domaine de Mournac
X-ORIGINAL-URL:https://www.domainedemournac.com
X-WR-CALDESC:Events for Domaine de Mournac
BEGIN:VEVENT
DTSTART;VALUE=DATE:20260314
DTEND;VALUE=DATE:20260322
DTSTAMP:20260419T162357
CREATED:20250922T071538Z
LAST-MODIFIED:20250922T071538Z
UID:3594-1773446400-1774137599@www.domainedemournac.com
SUMMARY:Yoga Retreat & Energy Healing Course Part 2 with Pieter Hiemstra & Elleke van Kraalingen
DESCRIPTION:This beautiful retreat is a true treat for Body\, Mind & Soul! It is an enriching combination of a Yoga & Meditation Retreat a beautiful nature environment and the international Energy Healing Course. (acknowledged by the International Network for Energy Healing (INEH)). \nThis international two-year course\, in Esoteric Healing is based upon the principles of health and disease\, as described in the books of Alice Bailey. \nThe Energy Healing course is given according to the directions of the INEH: International Network of Esoteric Healing. At completion of the course the graduate receives a certificate of the INEH. \nWe offer this course these four modules in the form of week retreats\, combined with yoga and meditation training. A beautiful blend of balancing your body with yoga\, balancing your mind with meditation\, and learning how to align with your soul to work with energy for the benefit of the whole\, including yourself as well as others. \nWe start the days with yoga & meditation\, followed by theory and practical sessions in energy healing work\, alternated with free afternoons and evenings sessions with another meditation and healing session. All afternoons are free to relax and enjoy the beautiful nature in Occitanie! \nEnrollment only for participants who have completed Part 1 \n \n
URL:https://www.domainedemournac.com/calendar/yoga-retreat-energy-healing-course-part-2-with-pieter-hiemstra-elleke-van-kraalingen/
LOCATION:Domaine De Mournac\, Mournac\, Antugnac\, 11190\, France
CATEGORIES:Health & Wellbeing
ATTACH;FMTTYPE=image/jpeg:https://www.domainedemournac.com/wp-content/uploads/2025/09/256168EA-F754-4EF1-8008-2EFE0369F8BE.jpeg
END:VEVENT
END:VCALENDAR