BEGIN:VCALENDAR
VERSION:2.0
PRODID:-//Domaine de Mournac - ECPv4.6.23//NONSGML v1.0//EN
CALSCALE:GREGORIAN
METHOD:PUBLISH
X-WR-CALNAME:Domaine de Mournac
X-ORIGINAL-URL:https://www.domainedemournac.com
X-WR-CALDESC:Events for Domaine de Mournac
BEGIN:VEVENT
DTSTART;VALUE=DATE:20260918
DTEND;VALUE=DATE:20260926
DTSTAMP:20260419T144048
CREATED:20241208T090846Z
LAST-MODIFIED:20250922T080425Z
UID:3576-1789689600-1790380799@www.domainedemournac.com
SUMMARY:Yoga Retreat in Nature
DESCRIPTION:
URL:https://www.domainedemournac.com/calendar/yoga-retreat-in-nature/
LOCATION:Domaine De Mournac\, Mournac\, Antugnac\, 11190\, France
CATEGORIES:Health & Wellbeing
ATTACH;FMTTYPE=image/jpeg:https://www.domainedemournac.com/wp-content/uploads/2018/08/New-3-for-site3.jpg
ORGANIZER;CN="Sabina%20Bjerregaard":MAILTO:sb@youryoga.dk
END:VEVENT
END:VCALENDAR