BEGIN:VCALENDAR
VERSION:2.0
PRODID:-//Domaine de Mournac - ECPv4.6.23//NONSGML v1.0//EN
CALSCALE:GREGORIAN
METHOD:PUBLISH
X-WR-CALNAME:Domaine de Mournac
X-ORIGINAL-URL:https://www.domainedemournac.com
X-WR-CALDESC:Events for Domaine de Mournac
BEGIN:VEVENT
DTSTART;VALUE=DATE:20230923
DTEND;VALUE=DATE:20230930
DTSTAMP:20260419T145751
CREATED:20221212T100222Z
LAST-MODIFIED:20230123T151155Z
UID:3299-1695427200-1696031999@www.domainedemournac.com
SUMMARY:Yoga retreat with Tory & Claire
DESCRIPTION:More information coming soon.. \n
URL:https://www.domainedemournac.com/calendar/yoga-retreat-with-tory-claire/
LOCATION:Domaine De Mournac\, Mournac\, Antugnac\, 11190\, France
CATEGORIES:Health & Wellbeing
ATTACH;FMTTYPE=image/jpeg:https://www.domainedemournac.com/wp-content/uploads/2018/08/DSC_2940.jpg
END:VEVENT
END:VCALENDAR