BEGIN:VCALENDAR
VERSION:2.0
PRODID:-//Domaine de Mournac - ECPv4.6.23//NONSGML v1.0//EN
CALSCALE:GREGORIAN
METHOD:PUBLISH
X-WR-CALNAME:Domaine de Mournac
X-ORIGINAL-URL:https://www.domainedemournac.com
X-WR-CALDESC:Events for Domaine de Mournac
BEGIN:VEVENT
DTSTART;VALUE=DATE:20190727
DTEND;VALUE=DATE:20190818
DTSTAMP:20260419T192817
CREATED:20181120T110520Z
LAST-MODIFIED:20190212T113942Z
UID:2694-1564185600-1566086399@www.domainedemournac.com
SUMMARY:Yoga Teacher Training with Quaternity
DESCRIPTION:Quaternity Yoga School belongs to family of Yoga Alliance International and offers Teacher Training Retreat RYS 200\, to build strong and stable foundation for yoga application in your life\, for exploring and developing yogic practices to teach them later to others\, find this time to nourish and renew in a calm and healing setup of countryside of Domaine de Mournac. \nQuaternity Yoga Training Retreat emphasizes: \n\nquality and care in teaching yoga\,\nexperiential approach – teaching from your own experience\,\nsense of compassion for yourself and others\,\nguiding without interfering\,\nlistening to your own body and being gentle with others\,\nteaching without expecting\,\nusing different aspects of yoga to work with four realms of human being: body\, mind\, emotion and psyche\,\nto eventually connect to the inner teacher in You and to the web of life itself.\n\nThis course is unique\, self-healing experience in a beautiful and remote part of Southern France known for the Cathar’s culture and spiritual connection. It is still here ! \nYou may be interested in becoming flexible\, healthy\, positive and open\, relaxed and focused\, maybe you want to know different aspects of yoga science and how to apply them in your life for your own benefits\, or maybe you have a sincere need to help others as a yoga teacher. \nWhatever is the reason why You want to start\, come to the common ground of Quaternity. \nTo book: \nhttps://www.quaternityoga.com/ytt-france.html# \n
URL:https://www.domainedemournac.com/calendar/yoga-teacher-training-with-quaternity/
LOCATION:Domaine De Mournac\, Mournac\, Antugnac\, 11190\, France
CATEGORIES:Health & Wellbeing
ATTACH;FMTTYPE=image/jpeg:https://www.domainedemournac.com/wp-content/uploads/2018/11/DSC_3390.jpeg
END:VEVENT
END:VCALENDAR