BEGIN:VCALENDAR
VERSION:2.0
PRODID:-//Domaine de Mournac - ECPv4.6.23//NONSGML v1.0//EN
CALSCALE:GREGORIAN
METHOD:PUBLISH
X-WR-CALNAME:Domaine de Mournac
X-ORIGINAL-URL:https://www.domainedemournac.com
X-WR-CALDESC:Events for Domaine de Mournac
BEGIN:VEVENT
DTSTART;VALUE=DATE:20220730
DTEND;VALUE=DATE:20220807
DTSTAMP:20260419T174956
CREATED:20211019T124540Z
LAST-MODIFIED:20211019T124540Z
UID:3114-1659139200-1659830399@www.domainedemournac.com
SUMMARY:Yoga with Inga Bentley
DESCRIPTION:Yoga retreat with Inga Bentley from CA \n
URL:https://www.domainedemournac.com/calendar/yoga-with-inga-bentley/
LOCATION:Domaine De Mournac\, Mournac\, Antugnac\, 11190\, France
CATEGORIES:Health & Wellbeing
ATTACH;FMTTYPE=image/jpeg:https://www.domainedemournac.com/wp-content/uploads/2018/08/DSC_2932.jpg
END:VEVENT
END:VCALENDAR