BEGIN:VCALENDAR
VERSION:2.0
PRODID:-//Domaine de Mournac - ECPv4.6.23//NONSGML v1.0//EN
CALSCALE:GREGORIAN
METHOD:PUBLISH
X-WR-CALNAME:Domaine de Mournac
X-ORIGINAL-URL:https://www.domainedemournac.com
X-WR-CALDESC:Events for Domaine de Mournac
BEGIN:VEVENT
DTSTART;VALUE=DATE:20220604
DTEND;VALUE=DATE:20220610
DTSTAMP:20260419T162000
CREATED:20220330T031449Z
LAST-MODIFIED:20220331T065754Z
UID:3147-1654300800-1654819199@www.domainedemournac.com
SUMMARY:YogaClubParis
DESCRIPTION:\n					\n						Yoga Club Paris comes to Domaine de Mournac!\n4-9th June 2022\nSouthern France\nOrganised by YogaClubParis \n\n\nYoga & French countryside: The perfect combination\n\n∧  Looking to escape the hustle and bustle of day-to-day life?  ∧\n“Come and join us on our Yoga retreat and we guarantee that you will leave with lots of beautiful and memorable moments”\nImmerse yourself in the beautiful setting of Domaine de Mournac\, beneath the Pyrénées with mindful nature walks to take in the natural beauty\, and of course\, find peace and presence through carefully designed\, energizing and restorative yoga practices.\n\nWhat you can look forward to: \n● 5 NIGHTS ACCOMMODATION\nIn the tranquil\, beautiful and charming renovated 14th century stone coach house with all the\ncomforts you need.\n● DAILY YOGA\nA combination of Hatha\, Vinyasa\, Restorative\, Yin yoga and Yoga Nidra specifically\,\ndesigned to help you reconnect with body\, mind and environment.\n● DAILY MINDFULNESS PRACTICES & WORKSHOPS\nExploring Pranayama (breath work)\, Mindfulness and Meditation practices that you can\neasily bring back into your everyday life.\n● DELICIOUS FOOD\nLocally sourced\, freshly prepared\, wholesome cuisine (ayurvedic/vegetarian)\n● OPTIONAL ACTIVITIES\nGuided walks and hikes in the surrounding area and Mount Sec\nRelaxing pool time (outdoor – heated)\n“Vegan Oats cookie” workshop with our chef Lili\n“Ayurvedic herbal tea” workshop with Anuradha\nMindfulness Coaching session (individual/group)\nPranic Healing session (individual/group) \nAyurvedic massage 45-60 min (additional cost applies)\nWine tasting and Vineyard tour (additional cost applies) \n\nYOUR HOSTS \nAnuradha Goyel\nBeing an Indian and trained in India\, Yoga has always been a ‘way of life’ for Anuradha; not\njust on the mat but outside of it too. She is RYT 500hrs trained in Hatha Yoga\, Pranayama\,\nPre post natal\, Ayurveda Therapy from the oldest lineage of Yoga (Sivananda\,\nKrishnamacharya).\nAnuradha is now pursuing an advanced training (800hrs) towards becoming a Yoga\nTherapist. \nJacqueline Koenig\nJacqueline brings classical alignment and mindfulness into her classes to develop a\npractice beyond physical exercise. She teaches yoga with a big smile\, mixed with challenge\nand fun that will help you feel more energetic and grounded. \nShe is a Yoga Alliance RYT500 teacher and studied Hatha\, Vinyasa and Yin yoga as well as\nMindfulness meditation in Australia and India. \nFor more information and bookings visit us here: \nhttps://www.yogaclubparis.fr/summerretreat2022 \n\n\n					\n				\n
URL:https://www.domainedemournac.com/calendar/yogaclubparis/
LOCATION:Domaine De Mournac\, Mournac\, Antugnac\, 11190\, France
CATEGORIES:Health & Wellbeing
ATTACH;FMTTYPE=image/png:https://www.domainedemournac.com/wp-content/uploads/2022/03/Untitled-design-5.png
END:VEVENT
END:VCALENDAR