BEGIN:VCALENDAR
VERSION:2.0
PRODID:-//Domaine de Mournac - ECPv4.6.23//NONSGML v1.0//EN
CALSCALE:GREGORIAN
METHOD:PUBLISH
X-WR-CALNAME:Domaine de Mournac
X-ORIGINAL-URL:https://www.domainedemournac.com
X-WR-CALDESC:Events for Domaine de Mournac
BEGIN:VEVENT
DTSTART;VALUE=DATE:20190707
DTEND;VALUE=DATE:20190714
DTSTAMP:20260419T210527
CREATED:20181120T104513Z
LAST-MODIFIED:20181120T104513Z
UID:2685-1562457600-1563062399@www.domainedemournac.com
SUMMARY:Yogascapes with Abby Tucker
DESCRIPTION:\nJoin us in the lands that gave rise to exquisite roses wines\, troubadours and early legends of the Holy Grail.  The Languedoc region in Southwest France is the land of world- renowned vineyards\, legends\, abundant sunshine\, Mediterranean cuisine\, Cathar castles and natural springs. Our retreat home is a 12th Century Farm house on 15 acres wedged between the Pyrenees Mountains and the Mediterranean Sea.  Your teacher\, Abby Tucker is uniquely equipped as a yoga teacher\, a vineyard owner and an initiated holder of earth wisdom and Grail mysteries\, to lead us on a powerful and evocative journey into these lands.\n\n\n\nJoin us for a week of yoga\, meditation\, ritual\, local food and wine\, excursions into the vast landscape of castles and legends\, and languid hours relaxing by the pool and taking in the breathtaking view. \nTHE HEART // We are in love with this part of the world. The Pyrenees are as magical as the Mediterranean\, so when we found a place with such incredible natural beauty combined with the French culture of food and wine\, mixed with the storied history of the landscape and the people who have lived in it\, we had to plan this trip! \n\nFor more details and to book: \n\nhttp://yogascapes.com/yogaretreats/france-yoga-retreat \n
URL:https://www.domainedemournac.com/calendar/yogascapes-with-abby-tucker/
LOCATION:Domaine De Mournac\, Mournac\, Antugnac\, 11190\, France
CATEGORIES:Health & Wellbeing
ATTACH;FMTTYPE=image/jpeg:https://www.domainedemournac.com/wp-content/uploads/2018/11/Abby-Tucker.jpeg
END:VEVENT
END:VCALENDAR